Package: dreamlet Version: 1.6.0 Command: /home/biocbuild/R/R/bin/R CMD INSTALL dreamlet StartedAt: 2025-10-13 21:18:51 -0000 (Mon, 13 Oct 2025) EndedAt: 2025-10-13 21:20:32 -0000 (Mon, 13 Oct 2025) EllapsedTime: 101.6 seconds RetCode: 0 Status: OK