Package: dreamlet Version: 1.6.0 Command: /home/biocbuild/R/R/bin/R CMD build --keep-empty-dirs --no-resave-data dreamlet StartedAt: 2025-10-14 00:29:19 -0000 (Tue, 14 Oct 2025) EndedAt: 2025-10-14 00:40:11 -0000 (Tue, 14 Oct 2025) EllapsedTime: 652.2 seconds RetCode: 0 Status: OK PackageFile: dreamlet_1.6.0.tar.gz PackageFileSize: 4.442 MiB