Package: drawProteins Version: 1.28.0 Command: /home/biocbuild/R/R/bin/R CMD build --keep-empty-dirs --no-resave-data drawProteins StartedAt: 2025-10-14 00:28:53 -0000 (Tue, 14 Oct 2025) EndedAt: 2025-10-14 00:29:33 -0000 (Tue, 14 Oct 2025) EllapsedTime: 40.0 seconds RetCode: 0 Status: OK PackageFile: drawProteins_1.28.0.tar.gz PackageFileSize: 1.486 MiB