Package: doubletrouble Version: 1.8.1 Command: /home/biocbuild/R/R/bin/R CMD INSTALL doubletrouble StartedAt: 2025-10-13 21:09:11 -0000 (Mon, 13 Oct 2025) EndedAt: 2025-10-13 21:10:09 -0000 (Mon, 13 Oct 2025) EllapsedTime: 58.0 seconds RetCode: 0 Status: OK