Package: doubletrouble Version: 1.8.1 Command: /home/biocbuild/R/R/bin/R CMD build --keep-empty-dirs --no-resave-data doubletrouble StartedAt: 2025-10-14 00:28:47 -0000 (Tue, 14 Oct 2025) EndedAt: 2025-10-14 00:30:43 -0000 (Tue, 14 Oct 2025) EllapsedTime: 116.0 seconds RetCode: 0 Status: OK PackageFile: doubletrouble_1.8.1.tar.gz PackageFileSize: 4.917 MiB