Package: doubletrouble Version: 1.8.1 Command: /Library/Frameworks/R.framework/Resources/bin/R CMD INSTALL doubletrouble StartedAt: 2025-10-13 17:57:52 -0400 (Mon, 13 Oct 2025) EndedAt: 2025-10-13 17:58:40 -0400 (Mon, 13 Oct 2025) EllapsedTime: 47.5 seconds RetCode: 0 Status: OK