Package: doubletrouble Version: 1.8.1 Command: /Library/Frameworks/R.framework/Resources/bin/R CMD build --keep-empty-dirs --no-resave-data doubletrouble StartedAt: 2025-10-13 23:33:33 -0400 (Mon, 13 Oct 2025) EndedAt: 2025-10-13 23:35:16 -0400 (Mon, 13 Oct 2025) EllapsedTime: 103.0 seconds RetCode: 0 Status: OK PackageFile: doubletrouble_1.8.1.tar.gz PackageFileSize: 5.036 MiB