Package: dominoSignal Version: 1.2.0 Command: /home/biocbuild/R/R/bin/R CMD INSTALL dominoSignal StartedAt: 2025-10-13 20:40:53 -0000 (Mon, 13 Oct 2025) EndedAt: 2025-10-13 20:41:27 -0000 (Mon, 13 Oct 2025) EllapsedTime: 34.4 seconds RetCode: 0 Status: OK