Package: dmrseq Version: 1.28.0 Command: /home/biocbuild/R/R/bin/R CMD build --keep-empty-dirs --no-resave-data dmrseq StartedAt: 2025-10-14 00:25:44 -0000 (Tue, 14 Oct 2025) EndedAt: 2025-10-14 00:30:08 -0000 (Tue, 14 Oct 2025) EllapsedTime: 264.1 seconds RetCode: 0 Status: OK PackageFile: dmrseq_1.28.0.tar.gz PackageFileSize: 2.871 MiB