Package: dittoSeq Version: 1.20.1 Command: /home/biocbuild/R/R/bin/R CMD build --keep-empty-dirs --no-resave-data dittoSeq StartedAt: 2025-10-14 00:24:08 -0000 (Tue, 14 Oct 2025) EndedAt: 2025-10-14 00:27:25 -0000 (Tue, 14 Oct 2025) EllapsedTime: 197.1 seconds RetCode: 0 Status: OK PackageFile: dittoSeq_1.20.1.tar.gz PackageFileSize: 2.514 MiB