Package: discordant Version: 1.32.0 Command: /home/biocbuild/R/R/bin/R CMD INSTALL discordant StartedAt: 2025-10-13 20:24:33 -0000 (Mon, 13 Oct 2025) EndedAt: 2025-10-13 20:24:52 -0000 (Mon, 13 Oct 2025) EllapsedTime: 18.7 seconds RetCode: 0 Status: OK