Package: diffuStats Version: 1.28.0 Command: /Library/Frameworks/R.framework/Resources/bin/R CMD INSTALL diffuStats StartedAt: 2025-10-13 15:14:05 -0400 (Mon, 13 Oct 2025) EndedAt: 2025-10-13 15:15:32 -0400 (Mon, 13 Oct 2025) EllapsedTime: 87.0 seconds RetCode: 0 Status: OK