Package: diffuStats Version: 1.28.0 Command: /Library/Frameworks/R.framework/Resources/bin/R CMD build --keep-empty-dirs --no-resave-data diffuStats StartedAt: 2025-10-13 18:38:21 -0400 (Mon, 13 Oct 2025) EndedAt: 2025-10-13 18:40:07 -0400 (Mon, 13 Oct 2025) EllapsedTime: 105.4 seconds RetCode: 0 Status: OK PackageFile: diffuStats_1.28.0.tar.gz PackageFileSize: 1.329 MiB