Package: diffcyt Version: 1.28.0 Command: /home/biocbuild/bbs-3.21-bioc/R/bin/R CMD INSTALL diffcyt StartedAt: 2025-10-15 15:21:51 -0400 (Wed, 15 Oct 2025) EndedAt: 2025-10-15 15:22:24 -0400 (Wed, 15 Oct 2025) EllapsedTime: 32.3 seconds RetCode: 0 Status: OK