Package: diffcyt Version: 1.28.0 Command: /Library/Frameworks/R.framework/Resources/bin/R CMD INSTALL diffcyt StartedAt: 2025-10-13 15:41:02 -0400 (Mon, 13 Oct 2025) EndedAt: 2025-10-13 15:42:10 -0400 (Mon, 13 Oct 2025) EllapsedTime: 68.2 seconds RetCode: 0 Status: OK