Package: diffcyt Version: 1.28.0 Command: /Library/Frameworks/R.framework/Resources/bin/R CMD check --install=check:diffcyt.install-out.txt --library=/Library/Frameworks/R.framework/Resources/library --no-vignettes --timings diffcyt_1.28.0.tar.gz StartedAt: 2025-10-14 02:52:37 -0400 (Tue, 14 Oct 2025) EndedAt: 2025-10-14 03:02:18 -0400 (Tue, 14 Oct 2025) EllapsedTime: 581.0 seconds RetCode: 0 Status: OK CheckDir: diffcyt.Rcheck Warnings: 0