Package: diffcyt Version: 1.28.0 Command: /home/biocbuild/R/R/bin/R CMD INSTALL diffcyt StartedAt: 2025-10-13 20:35:28 -0000 (Mon, 13 Oct 2025) EndedAt: 2025-10-13 20:36:14 -0000 (Mon, 13 Oct 2025) EllapsedTime: 45.7 seconds RetCode: 0 Status: OK