Package: diffcyt Version: 1.28.0 Command: /home/biocbuild/R/R/bin/R CMD build --keep-empty-dirs --no-resave-data diffcyt StartedAt: 2025-10-14 00:21:08 -0000 (Tue, 14 Oct 2025) EndedAt: 2025-10-14 00:23:48 -0000 (Tue, 14 Oct 2025) EllapsedTime: 160.0 seconds RetCode: 0 Status: OK PackageFile: diffcyt_1.28.0.tar.gz PackageFileSize: 856.8 KiB