Package: diffcoexp Version: 1.28.0 Command: rm -rf diffcoexp.buildbin-libdir && mkdir diffcoexp.buildbin-libdir && /Users/biocbuild/BBS/utils/build-universal.sh diffcoexp_1.28.0.tar.gz /Library/Frameworks/R.framework/Resources/bin/R diffcoexp.buildbin-libdir StartedAt: 2025-10-14 13:15:59 -0400 (Tue, 14 Oct 2025) EndedAt: 2025-10-14 13:18:01 -0400 (Tue, 14 Oct 2025) EllapsedTime: 121.3 seconds RetCode: 0 Status: OK PackageFile: diffcoexp_1.28.0.tgz PackageFileSize: 318.5 KiB