Package: diffcoexp Version: 1.28.0 Command: /home/biocbuild/R/R/bin/R CMD INSTALL diffcoexp StartedAt: 2025-10-13 21:05:27 -0000 (Mon, 13 Oct 2025) EndedAt: 2025-10-13 21:06:12 -0000 (Mon, 13 Oct 2025) EllapsedTime: 45.0 seconds RetCode: 0 Status: OK