Package: diffcoexp Version: 1.28.0 Command: /home/biocbuild/R/R/bin/R CMD check --install=check:diffcoexp.install-out.txt --library=/home/biocbuild/R/R/site-library --no-vignettes --timings diffcoexp_1.28.0.tar.gz StartedAt: 2025-10-14 08:29:57 -0000 (Tue, 14 Oct 2025) EndedAt: 2025-10-14 08:34:55 -0000 (Tue, 14 Oct 2025) EllapsedTime: 298.2 seconds RetCode: 0 Status: OK CheckDir: diffcoexp.Rcheck Warnings: 0