Package: diffcoexp Version: 1.28.0 Command: /Library/Frameworks/R.framework/Resources/bin/R CMD INSTALL diffcoexp StartedAt: 2025-10-13 17:46:49 -0400 (Mon, 13 Oct 2025) EndedAt: 2025-10-13 17:47:27 -0400 (Mon, 13 Oct 2025) EllapsedTime: 37.8 seconds RetCode: 0 Status: OK