Package: diffcoexp Version: 1.28.0 Command: /Library/Frameworks/R.framework/Resources/bin/R CMD build --keep-empty-dirs --no-resave-data diffcoexp StartedAt: 2025-10-13 23:16:31 -0400 (Mon, 13 Oct 2025) EndedAt: 2025-10-13 23:17:28 -0400 (Mon, 13 Oct 2025) EllapsedTime: 57.2 seconds RetCode: 0 Status: OK PackageFile: diffcoexp_1.28.0.tar.gz PackageFileSize: 294.1 KiB