Package: diffUTR Version: 1.16.0 Command: /home/biocbuild/bbs-3.21-bioc/R/bin/R CMD INSTALL diffUTR StartedAt: 2025-10-15 15:40:23 -0400 (Wed, 15 Oct 2025) EndedAt: 2025-10-15 15:41:09 -0400 (Wed, 15 Oct 2025) EllapsedTime: 46.5 seconds RetCode: 0 Status: OK