Package: diffUTR Version: 1.16.0 Command: /home/biocbuild/bbs-3.21-bioc/R/bin/R CMD check --install=check:diffUTR.install-out.txt --library=/home/biocbuild/bbs-3.21-bioc/R/site-library --timings diffUTR_1.16.0.tar.gz StartedAt: 2025-10-15 22:40:57 -0400 (Wed, 15 Oct 2025) EndedAt: 2025-10-15 22:47:00 -0400 (Wed, 15 Oct 2025) EllapsedTime: 362.5 seconds RetCode: 0 Status: OK CheckDir: diffUTR.Rcheck Warnings: 0