Package: diffUTR Version: 1.16.0 Command: /Library/Frameworks/R.framework/Resources/bin/R CMD INSTALL diffUTR StartedAt: 2025-10-13 16:11:37 -0400 (Mon, 13 Oct 2025) EndedAt: 2025-10-13 16:13:12 -0400 (Mon, 13 Oct 2025) EllapsedTime: 94.8 seconds RetCode: 0 Status: OK