Package: diffUTR Version: 1.16.0 Command: /Library/Frameworks/R.framework/Resources/bin/R CMD check --install=check:diffUTR.install-out.txt --library=/Library/Frameworks/R.framework/Resources/library --no-vignettes --timings diffUTR_1.16.0.tar.gz StartedAt: 2025-10-14 02:55:43 -0400 (Tue, 14 Oct 2025) EndedAt: 2025-10-14 03:06:58 -0400 (Tue, 14 Oct 2025) EllapsedTime: 674.9 seconds RetCode: 0 Status: OK CheckDir: diffUTR.Rcheck Warnings: 0