Package: diffUTR Version: 1.16.0 Command: rm -rf diffUTR.buildbin-libdir && mkdir diffUTR.buildbin-libdir && /Users/biocbuild/BBS/utils/build-universal.sh diffUTR_1.16.0.tar.gz /Library/Frameworks/R.framework/Resources/bin/R diffUTR.buildbin-libdir StartedAt: 2025-10-14 13:16:54 -0400 (Tue, 14 Oct 2025) EndedAt: 2025-10-14 13:19:30 -0400 (Tue, 14 Oct 2025) EllapsedTime: 156.1 seconds RetCode: 0 Status: OK PackageFile: diffUTR_1.16.0.tgz PackageFileSize: 1.428 MiB