Package: diffUTR Version: 1.16.0 Command: /home/biocbuild/R/R/bin/R CMD INSTALL diffUTR StartedAt: 2025-10-13 20:55:15 -0000 (Mon, 13 Oct 2025) EndedAt: 2025-10-13 20:56:19 -0000 (Mon, 13 Oct 2025) EllapsedTime: 64.2 seconds RetCode: 0 Status: OK