Package: diffUTR Version: 1.16.0 Command: /home/biocbuild/R/R/bin/R CMD check --install=check:diffUTR.install-out.txt --library=/home/biocbuild/R/R/site-library --no-vignettes --timings diffUTR_1.16.0.tar.gz StartedAt: 2025-10-14 08:31:54 -0000 (Tue, 14 Oct 2025) EndedAt: 2025-10-14 08:39:08 -0000 (Tue, 14 Oct 2025) EllapsedTime: 433.4 seconds RetCode: 0 Status: OK CheckDir: diffUTR.Rcheck Warnings: 0