Package: diffUTR Version: 1.16.0 Command: /home/biocbuild/R/R/bin/R CMD build --keep-empty-dirs --no-resave-data diffUTR StartedAt: 2025-10-14 00:22:43 -0000 (Tue, 14 Oct 2025) EndedAt: 2025-10-14 00:24:30 -0000 (Tue, 14 Oct 2025) EllapsedTime: 107.0 seconds RetCode: 0 Status: OK PackageFile: diffUTR_1.16.0.tar.gz PackageFileSize: 1.372 MiB