Package: diffUTR Version: 1.16.0 Command: /Library/Frameworks/R.framework/Resources/bin/R CMD INSTALL diffUTR StartedAt: 2025-10-13 17:22:23 -0400 (Mon, 13 Oct 2025) EndedAt: 2025-10-13 17:23:16 -0400 (Mon, 13 Oct 2025) EllapsedTime: 53.3 seconds RetCode: 0 Status: OK