Package: diffUTR Version: 1.16.0 Command: /Library/Frameworks/R.framework/Resources/bin/R CMD build --keep-empty-dirs --no-resave-data diffUTR StartedAt: 2025-10-13 23:21:35 -0400 (Mon, 13 Oct 2025) EndedAt: 2025-10-13 23:23:19 -0400 (Mon, 13 Oct 2025) EllapsedTime: 104.0 seconds RetCode: 0 Status: OK PackageFile: diffUTR_1.16.0.tar.gz PackageFileSize: 1.382 MiB