Package: diffHic Version: 1.40.0 Command: /home/biocbuild/bbs-3.21-bioc/R/bin/R CMD check --install=check:diffHic.install-out.txt --library=/home/biocbuild/bbs-3.21-bioc/R/site-library --timings diffHic_1.40.0.tar.gz StartedAt: 2025-10-15 22:39:36 -0400 (Wed, 15 Oct 2025) EndedAt: 2025-10-15 22:45:21 -0400 (Wed, 15 Oct 2025) EllapsedTime: 344.4 seconds RetCode: 0 Status: OK CheckDir: diffHic.Rcheck Warnings: 0