Package: diffHic Version: 1.40.0 Command: /home/biocbuild/bbs-3.21-bioc/R/bin/R CMD build --keep-empty-dirs --no-resave-data diffHic StartedAt: 2025-10-15 17:13:29 -0400 (Wed, 15 Oct 2025) EndedAt: 2025-10-15 17:15:04 -0400 (Wed, 15 Oct 2025) EllapsedTime: 95.1 seconds RetCode: 0 Status: OK PackageFile: diffHic_1.40.0.tar.gz PackageFileSize: 1.517 MiB