Package: diffHic Version: 1.40.0 Command: rm -rf diffHic.buildbin-libdir && mkdir diffHic.buildbin-libdir && /Users/biocbuild/BBS/utils/build-universal.sh diffHic_1.40.0.tar.gz /Library/Frameworks/R.framework/Resources/bin/R diffHic.buildbin-libdir StartedAt: 2025-10-14 13:16:37 -0400 (Tue, 14 Oct 2025) EndedAt: 2025-10-14 13:21:28 -0400 (Tue, 14 Oct 2025) EllapsedTime: 290.9 seconds RetCode: 0 Status: OK PackageFile: diffHic_1.40.0.tgz PackageFileSize: 2.553 MiB