Package: diffHic Version: 1.40.0 Command: /home/biocbuild/R/R/bin/R CMD INSTALL diffHic StartedAt: 2025-10-13 20:48:02 -0000 (Mon, 13 Oct 2025) EndedAt: 2025-10-13 20:50:24 -0000 (Mon, 13 Oct 2025) EllapsedTime: 142.6 seconds RetCode: 0 Status: OK