Package: diffHic Version: 1.40.0 Command: /home/biocbuild/R/R/bin/R CMD check --install=check:diffHic.install-out.txt --library=/home/biocbuild/R/R/site-library --no-vignettes --timings diffHic_1.40.0.tar.gz StartedAt: 2025-10-14 08:31:15 -0000 (Tue, 14 Oct 2025) EndedAt: 2025-10-14 08:38:43 -0000 (Tue, 14 Oct 2025) EllapsedTime: 447.4 seconds RetCode: 0 Status: OK CheckDir: diffHic.Rcheck Warnings: 0