Package: diffHic Version: 1.40.0 Command: /Library/Frameworks/R.framework/Resources/bin/R CMD build --keep-empty-dirs --no-resave-data diffHic StartedAt: 2025-10-13 23:19:54 -0400 (Mon, 13 Oct 2025) EndedAt: 2025-10-13 23:21:37 -0400 (Mon, 13 Oct 2025) EllapsedTime: 103.1 seconds RetCode: 0 Status: OK PackageFile: diffHic_1.40.0.tar.gz PackageFileSize: 1.517 MiB