Package: derfinderPlot Version: 1.42.0 Command: /home/biocbuild/R/R/bin/R CMD build --keep-empty-dirs --no-resave-data derfinderPlot StartedAt: 2025-10-14 00:18:31 -0000 (Tue, 14 Oct 2025) EndedAt: 2025-10-14 00:22:54 -0000 (Tue, 14 Oct 2025) EllapsedTime: 263.1 seconds RetCode: 0 Status: OK PackageFile: derfinderPlot_1.42.0.tar.gz PackageFileSize: 2.328 MiB