Package: derfinderHelper Version: 1.42.0 Command: /home/biocbuild/R/R/bin/R CMD INSTALL derfinderHelper StartedAt: 2025-10-13 20:26:37 -0000 (Mon, 13 Oct 2025) EndedAt: 2025-10-13 20:26:50 -0000 (Mon, 13 Oct 2025) EllapsedTime: 12.9 seconds RetCode: 0 Status: OK