Package: deltaCaptureC Version: 1.22.0 Command: /home/biocbuild/R/R/bin/R CMD build --keep-empty-dirs --no-resave-data deltaCaptureC StartedAt: 2025-10-14 00:15:28 -0000 (Tue, 14 Oct 2025) EndedAt: 2025-10-14 00:18:24 -0000 (Tue, 14 Oct 2025) EllapsedTime: 176.0 seconds RetCode: 0 Status: OK PackageFile: deltaCaptureC_1.22.0.tar.gz PackageFileSize: 332.7 KiB