Package: deconvR Version: 1.14.2 Command: /home/biocbuild/R/R/bin/R CMD INSTALL deconvR StartedAt: 2025-10-13 21:00:23 -0000 (Mon, 13 Oct 2025) EndedAt: 2025-10-13 21:01:35 -0000 (Mon, 13 Oct 2025) EllapsedTime: 71.6 seconds RetCode: 0 Status: OK