Package: deconvR Version: 1.14.2 Command: /home/biocbuild/R/R/bin/R CMD build --keep-empty-dirs --no-resave-data deconvR StartedAt: 2025-10-14 00:08:42 -0000 (Tue, 14 Oct 2025) EndedAt: 2025-10-14 00:11:28 -0000 (Tue, 14 Oct 2025) EllapsedTime: 166.0 seconds RetCode: 0 Status: OK PackageFile: deconvR_1.14.2.tar.gz PackageFileSize: 3.854 MiB