Package: decompTumor2Sig Version: 2.24.0 Command: /Library/Frameworks/R.framework/Resources/bin/R CMD INSTALL decompTumor2Sig StartedAt: 2025-10-13 18:31:15 -0400 (Mon, 13 Oct 2025) EndedAt: 2025-10-13 18:32:05 -0400 (Mon, 13 Oct 2025) EllapsedTime: 50.5 seconds RetCode: 0 Status: OK