Package: decompTumor2Sig Version: 2.24.0 Command: /Library/Frameworks/R.framework/Resources/bin/R CMD build --keep-empty-dirs --no-resave-data decompTumor2Sig StartedAt: 2025-10-13 22:41:11 -0400 (Mon, 13 Oct 2025) EndedAt: 2025-10-13 23:21:12 -0400 (Mon, 13 Oct 2025) EllapsedTime: 2400.3 seconds RetCode: None Status: TIMEOUT PackageFile: None PackageFileSize: NA