Package: debrowser Version: 1.36.0 Command: /home/biocbuild/R/R/bin/R CMD build --keep-empty-dirs --no-resave-data debrowser StartedAt: 2025-10-14 00:07:22 -0000 (Tue, 14 Oct 2025) EndedAt: 2025-10-14 00:15:53 -0000 (Tue, 14 Oct 2025) EllapsedTime: 511.1 seconds RetCode: 1 Status: ERROR PackageFile: None PackageFileSize: NA