Package: ddPCRclust Version: 1.28.0 Command: /Library/Frameworks/R.framework/Resources/bin/R CMD INSTALL ddPCRclust StartedAt: 2025-10-13 15:26:00 -0400 (Mon, 13 Oct 2025) EndedAt: 2025-10-13 15:26:29 -0400 (Mon, 13 Oct 2025) EllapsedTime: 29.0 seconds RetCode: 0 Status: OK