Package: ddPCRclust Version: 1.28.0 Command: rm -rf ddPCRclust.buildbin-libdir && mkdir ddPCRclust.buildbin-libdir && /Users/biocbuild/BBS/utils/build-universal.sh ddPCRclust_1.28.0.tar.gz /Library/Frameworks/R.framework/Resources/bin/R ddPCRclust.buildbin-libdir StartedAt: 2025-10-15 18:09:10 -0400 (Wed, 15 Oct 2025) EndedAt: 2025-10-15 18:09:28 -0400 (Wed, 15 Oct 2025) EllapsedTime: 17.2 seconds RetCode: 0 Status: OK PackageFile: ddPCRclust_1.28.0.tgz PackageFileSize: 1.344 MiB