Package: dcanr Version: 1.24.0 Command: /home/biocbuild/R/R/bin/R CMD INSTALL dcanr StartedAt: 2025-10-13 20:17:40 -0000 (Mon, 13 Oct 2025) EndedAt: 2025-10-13 20:18:25 -0000 (Mon, 13 Oct 2025) EllapsedTime: 44.6 seconds RetCode: 0 Status: OK